BEGIN:VCALENDAR
VERSION:2.0
PRODID:icalendar-ruby
CALSCALE:GREGORIAN
METHOD:PUBLISH
BEGIN:VEVENT
DTSTAMP:20260420T071153Z
UID:14-218571@dodgecenterumc.org
DTSTART:20260528T230000Z
DTEND:20260529T003000Z
CLASS:PUBLIC
CREATED:20260419T142427
DESCRIPTION:
LAST-MODIFIED:20260419T142427
LOCATION:
SUMMARY:Caregivers Group
URL;VALUE=URI:https://www.dodgecenterumc.org/events/caregivers-group/2026-0
 5-28
ATTACH;FILENAME=Nov caregivers.jpeg;FMTTYPE=image/jpeg:https://dq5pwpg1q8ru
 0.cloudfront.net/2025/11/03/18/04/00/d37bb0b2-1e5d-471a-aa51-0e44755a7e8a/
 Nov%20caregivers.jpeg
END:VEVENT
END:VCALENDAR
