BEGIN:VCALENDAR
VERSION:2.0
PRODID:icalendar-ruby
CALSCALE:GREGORIAN
METHOD:PUBLISH
BEGIN:VEVENT
DTSTAMP:20260420T032939Z
UID:7-218556@dodgecenterumc.org
DTSTART:20260419T133000Z
DTEND:20260419T143000Z
CLASS:PUBLIC
CREATED:20260419T142225
DESCRIPTION:There are classes offered every Sunday for kids ages 3 years ol
 d through 6th grade.  The classes will be during the 8:15 am worship.  A
 s in the past\, the children will start in worship and then go to class af
 ter the children’s message.
LAST-MODIFIED:20260419T142225
LOCATION:
SUMMARY:Sunday School
URL;VALUE=URI:https://www.dodgecenterumc.org/events/sunday-school/2026-04-1
 9
ATTACH;FILENAME=Sunday school.jpg;FMTTYPE=image/jpeg:https://dq5pwpg1q8ru0.
 cloudfront.net/2025/04/26/14/51/49/b6169800-8583-4855-a305-da58b968e6d2/Su
 nday%20school.jpg
END:VEVENT
END:VCALENDAR
